BEGIN:VCALENDAR
VERSION:2.0
PRODID:-//Segelclub Pirk e.V. - ECPv6.15.20//NONSGML v1.0//EN
CALSCALE:GREGORIAN
METHOD:PUBLISH
X-WR-CALNAME:Segelclub Pirk e.V.
X-ORIGINAL-URL:https://www.sc-pirk.de
X-WR-CALDESC:Veranstaltungen für Segelclub Pirk e.V.
REFRESH-INTERVAL;VALUE=DURATION:PT1H
X-Robots-Tag:noindex
X-PUBLISHED-TTL:PT1H
BEGIN:VTIMEZONE
TZID:Europe/Berlin
BEGIN:DAYLIGHT
TZOFFSETFROM:+0100
TZOFFSETTO:+0200
TZNAME:CEST
DTSTART:20220327T010000
END:DAYLIGHT
BEGIN:STANDARD
TZOFFSETFROM:+0200
TZOFFSETTO:+0100
TZNAME:CET
DTSTART:20221030T010000
END:STANDARD
BEGIN:DAYLIGHT
TZOFFSETFROM:+0100
TZOFFSETTO:+0200
TZNAME:CEST
DTSTART:20230326T010000
END:DAYLIGHT
BEGIN:STANDARD
TZOFFSETFROM:+0200
TZOFFSETTO:+0100
TZNAME:CET
DTSTART:20231029T010000
END:STANDARD
BEGIN:DAYLIGHT
TZOFFSETFROM:+0100
TZOFFSETTO:+0200
TZNAME:CEST
DTSTART:20240331T010000
END:DAYLIGHT
BEGIN:STANDARD
TZOFFSETFROM:+0200
TZOFFSETTO:+0100
TZNAME:CET
DTSTART:20241027T010000
END:STANDARD
BEGIN:DAYLIGHT
TZOFFSETFROM:+0100
TZOFFSETTO:+0200
TZNAME:CEST
DTSTART:20250330T010000
END:DAYLIGHT
BEGIN:STANDARD
TZOFFSETFROM:+0200
TZOFFSETTO:+0100
TZNAME:CET
DTSTART:20251026T010000
END:STANDARD
BEGIN:DAYLIGHT
TZOFFSETFROM:+0100
TZOFFSETTO:+0200
TZNAME:CEST
DTSTART:20260329T010000
END:DAYLIGHT
BEGIN:STANDARD
TZOFFSETFROM:+0200
TZOFFSETTO:+0100
TZNAME:CET
DTSTART:20261025T010000
END:STANDARD
END:VTIMEZONE
BEGIN:VEVENT
DTSTART;VALUE=DATE:20250927
DTEND;VALUE=DATE:20250929
DTSTAMP:20260420T120642
CREATED:20240927T192843Z
LAST-MODIFIED:20250921T122417Z
UID:691-1758931200-1759103999@www.sc-pirk.de
SUMMARY:45. Grog Regatta 2025
DESCRIPTION:Ausschreibung \nOnline Meldung und Meldeliste
URL:https://www.sc-pirk.de/termin/45-grog-regatta-2025/
LOCATION:Segelclub Pirk\, Am Strand 5\, Oelsnitz\, Sachsen\, 08606\, Germany
CATEGORIES:Club,Regatta,Talsperre Pirk
END:VEVENT
BEGIN:VEVENT
DTSTART;VALUE=DATE:20250912
DTEND;VALUE=DATE:20250913
DTSTAMP:20260420T120642
CREATED:20250514T191009Z
LAST-MODIFIED:20250514T191009Z
UID:984-1757635200-1757721599@www.sc-pirk.de
SUMMARY:5. Freitagsregatta
DESCRIPTION:Ausschreibung \nOnline Meldung und Meldeliste \nZwischenergebnis
URL:https://www.sc-pirk.de/termin/5-freitagsregatta/
LOCATION:Segelclub Pirk\, Am Strand 5\, Oelsnitz\, Sachsen\, 08606\, Germany
CATEGORIES:Club,Regatta,Talsperre Pirk
ATTACH;FMTTYPE=image/png:https://www.sc-pirk.de/wp-content/uploads/2021/02/cropped-cropped-cropped-cropped-cropped-cropped-Logo-1.png
END:VEVENT
BEGIN:VEVENT
DTSTART;VALUE=DATE:20250906
DTEND;VALUE=DATE:20250908
DTSTAMP:20260420T120642
CREATED:20241004T143916Z
LAST-MODIFIED:20241004T144041Z
UID:726-1757116800-1757289599@www.sc-pirk.de
SUMMARY:Langstreckenregatta und Blaues Band Talsperre Pöhl
DESCRIPTION:
URL:https://www.sc-pirk.de/termin/langstreckenregatta-und-blaues-band-poehl/
LOCATION:Segelverein Pöhl „Helmsgrüner Bucht“ e.V.\, Helmsgrün Schlosshalbinsel\, Pöhl\, Sachsen\, 08543\, Germany
CATEGORIES:Regatta,Talsperre Pöhl
END:VEVENT
BEGIN:VEVENT
DTSTART;VALUE=DATE:20250830
DTEND;VALUE=DATE:20250901
DTSTAMP:20260420T120642
CREATED:20241004T142810Z
LAST-MODIFIED:20241004T142810Z
UID:724-1756512000-1756684799@www.sc-pirk.de
SUMMARY:Goldener Finn und FD 2025 Talsperre Pöhl
DESCRIPTION:
URL:https://www.sc-pirk.de/termin/goldener-finn-und-fd-2025-talsperre-poehl/
LOCATION:Segelclub Handwerk Plauen\, Hauptstraße\, Pöhl\, Sachsen\, 08543\, Germany
CATEGORIES:Regatta,Talsperre Pöhl
END:VEVENT
BEGIN:VEVENT
DTSTART;VALUE=DATE:20250801
DTEND;VALUE=DATE:20250809
DTSTAMP:20260420T120642
CREATED:20241004T142620Z
LAST-MODIFIED:20241004T142620Z
UID:722-1754006400-1754697599@www.sc-pirk.de
SUMMARY:Trainingslager Pöhl
DESCRIPTION:
URL:https://www.sc-pirk.de/termin/trainingslager-poehl/
LOCATION:Segelsportgemeinschaft Reichenbach\, Dorfstraße\, Gansgrün\, Sachsen\, 08541\, Germany
CATEGORIES:Talsperre Pöhl,Training
END:VEVENT
BEGIN:VEVENT
DTSTART;VALUE=DATE:20250801
DTEND;VALUE=DATE:20250802
DTSTAMP:20260420T120642
CREATED:20250514T190807Z
LAST-MODIFIED:20250514T190807Z
UID:981-1754006400-1754092799@www.sc-pirk.de
SUMMARY:4. Freitagsregatta
DESCRIPTION:Ausschreibung \nOnline Meldung und Meldeliste \nZwischenergebnis
URL:https://www.sc-pirk.de/termin/4-freitagsregatta/
CATEGORIES:Club,Regatta,Talsperre Pirk
ATTACH;FMTTYPE=image/png:https://www.sc-pirk.de/wp-content/uploads/2021/02/cropped-cropped-cropped-cropped-cropped-cropped-Logo-1.png
END:VEVENT
BEGIN:VEVENT
DTSTART;VALUE=DATE:20250719
DTEND;VALUE=DATE:20250721
DTSTAMP:20260420T120642
CREATED:20240927T192751Z
LAST-MODIFIED:20241122T215848Z
UID:689-1752883200-1753055999@www.sc-pirk.de
SUMMARY:Blaues Band Pirk 2025
DESCRIPTION:
URL:https://www.sc-pirk.de/termin/blaues-band-pirk-2025/
LOCATION:Segelclub Pirk\, Am Strand 5\, Oelsnitz\, Sachsen\, 08606\, Germany
CATEGORIES:Club,Regatta,Talsperre Pirk
END:VEVENT
BEGIN:VEVENT
DTSTART;VALUE=DATE:20250713
DTEND;VALUE=DATE:20250719
DTSTAMP:20260420T120642
CREATED:20240927T193905Z
LAST-MODIFIED:20250514T191559Z
UID:695-1752364800-1752883199@www.sc-pirk.de
SUMMARY:Trainingslager Pirk
DESCRIPTION:Ausschreibung \nOnline Meldung und Meldeliste
URL:https://www.sc-pirk.de/termin/trainingslager-pirk/
LOCATION:Segelclub Pirk\, Am Strand 5\, Oelsnitz\, Sachsen\, 08606\, Germany
CATEGORIES:Club,Talsperre Pirk,Training
ATTACH;FMTTYPE=image/png:https://www.sc-pirk.de/wp-content/uploads/2021/02/cropped-cropped-cropped-cropped-cropped-cropped-Logo-1.png
END:VEVENT
BEGIN:VEVENT
DTSTART;VALUE=DATE:20250704
DTEND;VALUE=DATE:20250705
DTSTAMP:20260420T120642
CREATED:20250514T190608Z
LAST-MODIFIED:20250514T190608Z
UID:979-1751587200-1751673599@www.sc-pirk.de
SUMMARY:3. Freitagsregatta
DESCRIPTION:Ausschreibung \nOnline Meldung und Meldeliste \nZwischenergebnis
URL:https://www.sc-pirk.de/termin/3-freitagsregatta/
LOCATION:Segelclub Pirk\, Am Strand 5\, Oelsnitz\, Sachsen\, 08606\, Germany
CATEGORIES:Club,Regatta,Talsperre Pirk
ATTACH;FMTTYPE=image/png:https://www.sc-pirk.de/wp-content/uploads/2021/02/cropped-cropped-cropped-cropped-cropped-cropped-Logo-1.png
END:VEVENT
BEGIN:VEVENT
DTSTART;VALUE=DATE:20250614
DTEND;VALUE=DATE:20250616
DTSTAMP:20260420T120642
CREATED:20241004T141112Z
LAST-MODIFIED:20241004T141112Z
UID:718-1749859200-1750031999@www.sc-pirk.de
SUMMARY:Landesmeisterschaft Flying Dutchman Talsperre Pöhl
DESCRIPTION:
URL:https://www.sc-pirk.de/termin/landesmeisterschaft-flying-dutchman-talsperre-poehl/
LOCATION:Segelsportverein „Einheit Plauen“\, Möschwitz – Hauptstr. 51\, Pöhl\, Sachsen\, 08543\, Germany
CATEGORIES:Regatta,Talsperre Pöhl
END:VEVENT
BEGIN:VEVENT
DTSTART;VALUE=DATE:20250614
DTEND;VALUE=DATE:20250615
DTSTAMP:20260420T120642
CREATED:20241122T215126Z
LAST-MODIFIED:20250514T185125Z
UID:929-1749859200-1749945599@www.sc-pirk.de
SUMMARY:25. Pirker Finntage 2025
DESCRIPTION:www.pirker-finntage.de \n\nSCP – Segelclub Pirk\nAm Strand\n08606 Oelsnitz/Vogtl.\n50°25’45.7″N 12°06’59.0″E \nwww.pirker-finntage.de\nwww.sc-pirk.de \n  \nAusschreibung \nOnline Meldung und Meldeliste
URL:https://www.sc-pirk.de/termin/25-pirker-finntage-2025/
LOCATION:Segelclub Pirk\, Am Strand 5\, Oelsnitz\, Sachsen\, 08606\, Germany
CATEGORIES:Club,Regatta,Talsperre Pirk
ATTACH;FMTTYPE=image/jpeg:https://www.sc-pirk.de/wp-content/uploads/2021/02/Pirker-Finntage-2019-0256-scaled.jpg
END:VEVENT
BEGIN:VEVENT
DTSTART;VALUE=DATE:20250607
DTEND;VALUE=DATE:20250609
DTSTAMP:20260420T120642
CREATED:20241004T140629Z
LAST-MODIFIED:20241004T140629Z
UID:712-1749254400-1749427199@www.sc-pirk.de
SUMMARY:Pfingstregatta Talsperre Pöhl
DESCRIPTION:
URL:https://www.sc-pirk.de/termin/pfingstregatta-talsperre-poehl/
LOCATION:Segelsportgemeinschaft Mylau\, Schloßhalbinsel\, Pöhl\, Sachsen\, 08543\, Germany
CATEGORIES:Regatta,Talsperre Pöhl
END:VEVENT
BEGIN:VEVENT
DTSTART;VALUE=DATE:20250606
DTEND;VALUE=DATE:20250607
DTSTAMP:20260420T120642
CREATED:20250514T190354Z
LAST-MODIFIED:20250514T190354Z
UID:975-1749168000-1749254399@www.sc-pirk.de
SUMMARY:2. Freitagsregatta
DESCRIPTION:Ausschreibung \nOnline Meldung und Meldeliste \nZwischenergebnis
URL:https://www.sc-pirk.de/termin/2-freitagsregatta/
LOCATION:Segelclub Pirk\, Am Strand 5\, Oelsnitz\, Sachsen\, 08606\, Germany
CATEGORIES:Club,Regatta,Talsperre Pirk
ATTACH;FMTTYPE=image/png:https://www.sc-pirk.de/wp-content/uploads/2021/02/cropped-cropped-cropped-cropped-cropped-cropped-Logo-1.png
END:VEVENT
BEGIN:VEVENT
DTSTART;VALUE=DATE:20250531
DTEND;VALUE=DATE:20250602
DTSTAMP:20260420T120642
CREATED:20241004T133359Z
LAST-MODIFIED:20241004T133359Z
UID:708-1748649600-1748822399@www.sc-pirk.de
SUMMARY:Schluchtenpreis Talsperre Pöhl
DESCRIPTION:
URL:https://www.sc-pirk.de/termin/schluchtenpreis-talsperre-poehl/
LOCATION:Segelsportgemeinschaft Reichenbach\, Dorfstraße\, Gansgrün\, Sachsen\, 08541\, Germany
END:VEVENT
BEGIN:VEVENT
DTSTART;VALUE=DATE:20250516
DTEND;VALUE=DATE:20250517
DTSTAMP:20260420T120642
CREATED:20250514T185852Z
LAST-MODIFIED:20250514T190350Z
UID:970-1747353600-1747439999@www.sc-pirk.de
SUMMARY:1. Freitagsregatta
DESCRIPTION:Ausschreibung \nOnline Meldung und Meldeliste \nZwischenergebnis
URL:https://www.sc-pirk.de/termin/freitagsregatta/
LOCATION:Segelclub Pirk\, Am Strand 5\, Oelsnitz\, Sachsen\, 08606\, Germany
CATEGORIES:Club,Regatta,Talsperre Pirk
ATTACH;FMTTYPE=image/png:https://www.sc-pirk.de/wp-content/uploads/2021/02/cropped-cropped-cropped-cropped-cropped-cropped-Logo-1.png
END:VEVENT
BEGIN:VEVENT
DTSTART;TZID=Europe/Berlin:20250514T080000
DTEND;TZID=Europe/Berlin:20250514T170000
DTSTAMP:20260420T120642
CREATED:20250514T191152Z
LAST-MODIFIED:20250514T191152Z
UID:986-1747209600-1747242000@www.sc-pirk.de
SUMMARY:6. Freitagsregatta - Finale
DESCRIPTION:Ausschreibung \nOnline Meldung und Meldeliste \nZwischenergebnis
URL:https://www.sc-pirk.de/termin/6-freitagsregatta-finale/
ATTACH;FMTTYPE=image/png:https://www.sc-pirk.de/wp-content/uploads/2021/02/cropped-cropped-cropped-cropped-cropped-cropped-Logo-1.png
END:VEVENT
BEGIN:VEVENT
DTSTART;VALUE=DATE:20250510
DTEND;VALUE=DATE:20250512
DTSTAMP:20260420T120642
CREATED:20241004T131128Z
LAST-MODIFIED:20241004T131128Z
UID:706-1746835200-1747007999@www.sc-pirk.de
SUMMARY:Handwerker-Pokal mit Foadie-Cup Talsperre Pöhl
DESCRIPTION:
URL:https://www.sc-pirk.de/termin/handwerker-pokal-mit-foadie-cup-talsperre-poehl/
LOCATION:Segelclub Handwerk Plauen\, Hauptstraße\, Pöhl\, Sachsen\, 08543\, Germany
CATEGORIES:Regatta,Talsperre Pöhl
END:VEVENT
BEGIN:VEVENT
DTSTART;VALUE=DATE:20250501
DTEND;VALUE=DATE:20250502
DTSTAMP:20260420T120642
CREATED:20240927T193717Z
LAST-MODIFIED:20241004T130949Z
UID:693-1746057600-1746143999@www.sc-pirk.de
SUMMARY:Regatta Training Pöhl
DESCRIPTION:
URL:https://www.sc-pirk.de/termin/regatta-training-poehl/
LOCATION:Segelclub Handwerk Plauen\, Hauptstraße\, Pöhl\, Sachsen\, 08543\, Germany
CATEGORIES:Talsperre Pöhl,Training
END:VEVENT
BEGIN:VEVENT
DTSTART;VALUE=DATE:20241026
DTEND;VALUE=DATE:20241028
DTSTAMP:20260420T120642
CREATED:20241004T145336Z
LAST-MODIFIED:20241004T145336Z
UID:732-1729900800-1730073599@www.sc-pirk.de
SUMMARY:Mitteldeutsche Vereinsmeisterschaft 2024
DESCRIPTION:Veranstalter: Segler-Verband Sachsen e.V. & Thüringer Seglerverband e.V. \nVeranstaltungsort: Segelclub Turbine Bleiloch e.V. \n  \nAusschreibung \nOnline Meldung und Meldliste
URL:https://www.sc-pirk.de/termin/mitteldeutsche-vereinsmeisterschaft-2024/
LOCATION:Segelcub Turbine Bleiloch\, Kloster 1\, Saalbrug\, Thüringen\, 07929\, Germany
CATEGORIES:Regatta
END:VEVENT
BEGIN:VEVENT
DTSTART;VALUE=DATE:20240928
DTEND;VALUE=DATE:20240930
DTSTAMP:20260420T120642
CREATED:20240927T192437Z
LAST-MODIFIED:20241004T210243Z
UID:687-1727481600-1727654399@www.sc-pirk.de
SUMMARY:44. Grog Regatta 2024
DESCRIPTION:
URL:https://www.sc-pirk.de/termin/44-grog-regatta-2024/
LOCATION:Segelclub Pirk\, Am Strand 5\, Oelsnitz\, Sachsen\, 08606\, Germany
CATEGORIES:Club,Regatta,Talsperre Pirk
END:VEVENT
BEGIN:VEVENT
DTSTART;VALUE=DATE:20230923
DTEND;VALUE=DATE:20230925
DTSTAMP:20260420T120642
CREATED:20221030T221101Z
LAST-MODIFIED:20241004T210324Z
UID:387-1695427200-1695599999@www.sc-pirk.de
SUMMARY:Grog Regatta 2023
DESCRIPTION:weitere Infos\, Ausschreibung\,  Meldemöglichkeiten usw. folgen
URL:https://www.sc-pirk.de/termin/grog-regatta-2023/
LOCATION:Segelclub Pirk\, Am Strand 5\, Oelsnitz\, Sachsen\, 08606\, Germany
CATEGORIES:Club,Regatta,Talsperre Pirk
END:VEVENT
BEGIN:VEVENT
DTSTART;VALUE=DATE:20230715
DTEND;VALUE=DATE:20230717
DTSTAMP:20260420T120642
CREATED:20221030T221347Z
LAST-MODIFIED:20241004T210420Z
UID:391-1689379200-1689551999@www.sc-pirk.de
SUMMARY:Blaues Band Pirk 2023
DESCRIPTION:weitere Infos\, Ausschreibung\, Meldemöglichkeiten usw. folgen
URL:https://www.sc-pirk.de/termin/blaues-band-pirk-2023/
LOCATION:Segelclub Pirk\, Am Strand 5\, Oelsnitz\, Sachsen\, 08606\, Germany
CATEGORIES:Club,Regatta,Talsperre Pirk
END:VEVENT
BEGIN:VEVENT
DTSTART;VALUE=DATE:20230708
DTEND;VALUE=DATE:20230715
DTSTAMP:20260420T120642
CREATED:20221030T221448Z
LAST-MODIFIED:20241004T210458Z
UID:393-1688774400-1689379199@www.sc-pirk.de
SUMMARY:Trainingslager Pirk 2023
DESCRIPTION:
URL:https://www.sc-pirk.de/termin/trainingslager-pirk-2023/
LOCATION:Segelclub Pirk\, Am Strand 5\, Oelsnitz\, Sachsen\, 08606\, Germany
CATEGORIES:Club,Talsperre Pirk,Training
END:VEVENT
BEGIN:VEVENT
DTSTART;VALUE=DATE:20230603
DTEND;VALUE=DATE:20230605
DTSTAMP:20260420T120642
CREATED:20221110T214828Z
LAST-MODIFIED:20241004T125934Z
UID:480-1685750400-1685923199@www.sc-pirk.de
SUMMARY:Pirker Finntage 2023
DESCRIPTION:Ranglisten Regatta der Finn-Dinghy Klasse \nAusschreibung\, Online Meldung und Meldeliste folgen in Kürze
URL:https://www.sc-pirk.de/termin/pirker-finntage/
LOCATION:Segelclub Pirk\, Am Strand 5\, Oelsnitz\, Sachsen\, 08606\, Germany
END:VEVENT
END:VCALENDAR